Package: ropls Version: 1.40.0 Command: /Library/Frameworks/R.framework/Resources/bin/R CMD check --install=check:ropls.install-out.txt --library=/Library/Frameworks/R.framework/Resources/library --no-vignettes --timings ropls_1.40.0.tar.gz StartedAt: 2025-10-11 11:46:16 -0400 (Sat, 11 Oct 2025) EndedAt: 2025-10-11 11:50:58 -0400 (Sat, 11 Oct 2025) EllapsedTime: 282.2 seconds RetCode: 0 Status: OK CheckDir: ropls.Rcheck Warnings: 0