Package: ropls Version: 1.40.0 Command: /Library/Frameworks/R.framework/Resources/bin/R CMD build --keep-empty-dirs --no-resave-data ropls StartedAt: 2025-10-14 08:08:36 -0400 (Tue, 14 Oct 2025) EndedAt: 2025-10-14 08:10:01 -0400 (Tue, 14 Oct 2025) EllapsedTime: 84.3 seconds RetCode: 0 Status: OK PackageFile: ropls_1.40.0.tar.gz PackageFileSize: 5.543 MiB