Package: rols Version: 3.4.0 Command: /home/biocbuild/R/R/bin/R CMD check --install=check:rols.install-out.txt --library=/home/biocbuild/R/R/site-library --no-vignettes --timings rols_3.4.0.tar.gz StartedAt: 2025-08-29 13:55:58 -0000 (Fri, 29 Aug 2025) EndedAt: 2025-08-29 13:58:18 -0000 (Fri, 29 Aug 2025) EllapsedTime: 140.1 seconds RetCode: 0 Status: OK CheckDir: rols.Rcheck Warnings: 0