Package: roastgsa Version: 1.8.0 Command: /home/biocbuild/R/R/bin/R CMD check --install=check:roastgsa.install-out.txt --library=/home/biocbuild/R/R/site-library --no-vignettes --timings roastgsa_1.8.0.tar.gz StartedAt: 2025-11-18 14:21:09 -0000 (Tue, 18 Nov 2025) EndedAt: 2025-11-18 14:22:57 -0000 (Tue, 18 Nov 2025) EllapsedTime: 108.1 seconds RetCode: 0 Status: OK CheckDir: roastgsa.Rcheck Warnings: 0