Package: roastgsa Version: 1.6.0 Command: /Library/Frameworks/R.framework/Resources/bin/R CMD INSTALL roastgsa StartedAt: 2025-10-13 15:24:40 -0400 (Mon, 13 Oct 2025) EndedAt: 2025-10-13 15:24:57 -0400 (Mon, 13 Oct 2025) EllapsedTime: 16.7 seconds RetCode: 0 Status: OK