Package: roastgsa Version: 1.6.0 Command: /Library/Frameworks/R.framework/Resources/bin/R CMD build --keep-empty-dirs --no-resave-data roastgsa StartedAt: 2025-10-13 22:06:48 -0400 (Mon, 13 Oct 2025) EndedAt: 2025-10-13 22:09:38 -0400 (Mon, 13 Oct 2025) EllapsedTime: 169.3 seconds RetCode: 0 Status: OK PackageFile: roastgsa_1.6.0.tar.gz PackageFileSize: 2.113 MiB