Package: roastgsa Version: 1.6.0 Command: rm -rf roastgsa.buildbin-libdir && mkdir roastgsa.buildbin-libdir && /Users/biocbuild/BBS/utils/build-universal.sh roastgsa_1.6.0.tar.gz /Library/Frameworks/R.framework/Resources/bin/R roastgsa.buildbin-libdir StartedAt: 2025-04-22 01:05:09 -0400 (Tue, 22 Apr 2025) EndedAt: 2025-04-22 01:05:23 -0400 (Tue, 22 Apr 2025) EllapsedTime: 13.7 seconds RetCode: 0 Status: OK PackageFile: roastgsa_1.6.0.tgz PackageFileSize: 2.247 MiB