Package: roastgsa Version: 1.8.0 Command: /Library/Frameworks/R.framework/Resources/bin/R CMD INSTALL roastgsa StartedAt: 2025-10-31 15:11:36 -0400 (Fri, 31 Oct 2025) EndedAt: 2025-10-31 15:11:40 -0400 (Fri, 31 Oct 2025) EllapsedTime: 3.8 seconds RetCode: 0 Status: OK