Package: roastgsa Version: 1.8.0 Command: rm -rf roastgsa.buildbin-libdir && mkdir roastgsa.buildbin-libdir && /Users/biocbuild/BBS/utils/build-universal.sh roastgsa_1.8.0.tar.gz /Library/Frameworks/R.framework/Resources/bin/R roastgsa.buildbin-libdir StartedAt: 2025-11-03 23:19:17 -0500 (Mon, 03 Nov 2025) EndedAt: 2025-11-03 23:19:21 -0500 (Mon, 03 Nov 2025) EllapsedTime: 4.1 seconds RetCode: 0 Status: OK PackageFile: roastgsa_1.8.0.tgz PackageFileSize: 2.254 MiB