Package: roastgsa Version: 1.6.0 Command: /Library/Frameworks/R.framework/Resources/bin/R CMD build --keep-empty-dirs --no-resave-data roastgsa StartedAt: 2025-10-14 08:07:02 -0400 (Tue, 14 Oct 2025) EndedAt: 2025-10-14 08:09:01 -0400 (Tue, 14 Oct 2025) EllapsedTime: 119.5 seconds RetCode: 0 Status: OK PackageFile: roastgsa_1.6.0.tar.gz PackageFileSize: 2.206 MiB