Package: roar Version: 1.44.1 Command: /home/biocbuild/bbs-3.21-bioc/R/bin/R CMD check --install=check:roar.install-out.txt --library=/home/biocbuild/bbs-3.21-bioc/R/site-library --timings roar_1.44.1.tar.gz StartedAt: 2025-10-16 02:59:56 -0400 (Thu, 16 Oct 2025) EndedAt: 2025-10-16 03:05:12 -0400 (Thu, 16 Oct 2025) EllapsedTime: 315.5 seconds RetCode: 0 Status: OK CheckDir: roar.Rcheck Warnings: 0