Package: roar Version: 1.44.0 Command: /Library/Frameworks/R.framework/Resources/bin/R CMD check --install=check:roar.install-out.txt --library=/Library/Frameworks/R.framework/Resources/library --no-vignettes --timings roar_1.44.0.tar.gz StartedAt: 2025-04-21 23:07:57 -0400 (Mon, 21 Apr 2025) EndedAt: 2025-04-21 23:12:31 -0400 (Mon, 21 Apr 2025) EllapsedTime: 273.7 seconds RetCode: 0 Status: OK CheckDir: roar.Rcheck Warnings: 0