Package: roar Version: 1.44.0 Command: /Library/Frameworks/R.framework/Resources/bin/R CMD check --install=check:roar.install-out.txt --library=/Library/Frameworks/R.framework/Resources/library --no-vignettes --timings roar_1.44.0.tar.gz StartedAt: 2025-04-21 21:18:55 -0400 (Mon, 21 Apr 2025) EndedAt: 2025-04-21 21:20:30 -0400 (Mon, 21 Apr 2025) EllapsedTime: 95.1 seconds RetCode: 0 Status: OK CheckDir: roar.Rcheck Warnings: 0