Package: roar Version: 1.44.1 Command: /Library/Frameworks/R.framework/Resources/bin/R CMD INSTALL roar StartedAt: 2025-10-13 16:54:16 -0400 (Mon, 13 Oct 2025) EndedAt: 2025-10-13 16:54:55 -0400 (Mon, 13 Oct 2025) EllapsedTime: 38.4 seconds RetCode: 0 Status: OK