Package: roar Version: 1.44.1 Maintainer: Elena Grassi MaintainerEmail: grassi.e at gmail.com git_url: https://git.bioconductor.org/packages/roar git_branch: RELEASE_3_21 git_last_commit: d2ea95a git_last_commit_date: 2025-05-08 12:29:56 -0400 (Thu, 08 May 2025)