Package: rnaseqcomp Version: 1.38.0 Command: /home/biocbuild/R/R/bin/R CMD build --keep-empty-dirs --no-resave-data rnaseqcomp StartedAt: 2025-09-26 05:25:43 -0000 (Fri, 26 Sep 2025) EndedAt: 2025-09-26 05:26:15 -0000 (Fri, 26 Sep 2025) EllapsedTime: 32.0 seconds RetCode: 0 Status: OK PackageFile: rnaseqcomp_1.38.0.tar.gz PackageFileSize: 1.517 MiB