Package: rmspc Version: 1.15.0 Command: /home/biocbuild/R/R/bin/R CMD build --keep-empty-dirs --no-resave-data rmspc StartedAt: 2025-10-21 02:32:24 -0000 (Tue, 21 Oct 2025) EndedAt: 2025-10-21 02:34:18 -0000 (Tue, 21 Oct 2025) EllapsedTime: 114.1 seconds RetCode: 0 Status: OK PackageFile: rmspc_1.15.0.tar.gz PackageFileSize: 2.2 MiB