Package: rigvf Version: 1.1.3 Command: F:\biocbuild\bbs-3.22-bioc\R\bin\R.exe CMD INSTALL rigvf StartedAt: 2025-08-14 15:47:01 -0400 (Thu, 14 Aug 2025) EndedAt: 2025-08-14 15:47:21 -0400 (Thu, 14 Aug 2025) EllapsedTime: 19.6 seconds RetCode: 0 Status: OK