Package: rigvf Version: 1.1.3 Command: F:\biocbuild\bbs-3.22-bioc\R\bin\R.exe CMD check --no-multiarch --install=check:rigvf.install-out.txt --library=F:\biocbuild\bbs-3.22-bioc\R\library --no-vignettes --timings rigvf_1.1.3.tar.gz StartedAt: 2025-08-15 07:06:56 -0400 (Fri, 15 Aug 2025) EndedAt: 2025-08-15 07:08:45 -0400 (Fri, 15 Aug 2025) EllapsedTime: 108.9 seconds RetCode: 0 Status: OK CheckDir: rigvf.Rcheck Warnings: 0