Package: rigvf Version: 1.2.0 Command: /home/biocbuild/bbs-3.22-bioc/R/bin/R CMD build --keep-empty-dirs --no-resave-data --md5 rigvf StartedAt: 2025-11-06 19:39:14 -0500 (Thu, 06 Nov 2025) EndedAt: 2025-11-06 19:39:44 -0500 (Thu, 06 Nov 2025) EllapsedTime: 30.0 seconds RetCode: 0 Status: OK PackageFile: rigvf_1.2.0.tar.gz PackageFileSize: 211.2 KiB