Package: rifi Version: 1.12.0 Command: /Library/Frameworks/R.framework/Resources/bin/R CMD check --install=check:rifi.install-out.txt --library=/Library/Frameworks/R.framework/Resources/library --no-vignettes --timings rifi_1.12.0.tar.gz StartedAt: 2025-10-14 09:13:45 -0400 (Tue, 14 Oct 2025) EndedAt: 2025-10-14 09:36:16 -0400 (Tue, 14 Oct 2025) EllapsedTime: 1351.1 seconds RetCode: 0 Status: WARNINGS CheckDir: rifi.Rcheck Warnings: 2