Package: rifi Version: 1.12.0 Command: rm -rf rifi.buildbin-libdir && mkdir rifi.buildbin-libdir && /Users/biocbuild/BBS/utils/build-universal.sh rifi_1.12.0.tar.gz /Library/Frameworks/R.framework/Resources/bin/R rifi.buildbin-libdir StartedAt: 2025-10-14 14:34:12 -0400 (Tue, 14 Oct 2025) EndedAt: 2025-10-14 14:36:06 -0400 (Tue, 14 Oct 2025) EllapsedTime: 114.4 seconds RetCode: 0 Status: OK PackageFile: rifi_1.12.0.tgz PackageFileSize: 4.759 MiB