Package: ribosomeProfilingQC Version: 1.20.0 Command: /Library/Frameworks/R.framework/Resources/bin/R CMD check --install=check:ribosomeProfilingQC.install-out.txt --library=/Library/Frameworks/R.framework/Resources/library --no-vignettes --timings ribosomeProfilingQC_1.20.0.tar.gz StartedAt: 2025-09-19 09:19:24 -0400 (Fri, 19 Sep 2025) EndedAt: 2025-09-19 09:37:41 -0400 (Fri, 19 Sep 2025) EllapsedTime: 1097.2 seconds RetCode: 0 Status: OK CheckDir: ribosomeProfilingQC.Rcheck Warnings: 0