Package: ribor Version: 1.20.0 Command: /home/biocbuild/R/R/bin/R CMD INSTALL ribor StartedAt: 2025-10-13 20:25:36 -0000 (Mon, 13 Oct 2025) EndedAt: 2025-10-13 20:25:48 -0000 (Mon, 13 Oct 2025) EllapsedTime: 12.2 seconds RetCode: 0 Status: OK