Package: rhinotypeR Version: 1.4.0 Maintainer: Martha Luka MaintainerEmail: marthaluka20 at gmail.com git_url: https://git.bioconductor.org/packages/rhinotypeR git_branch: RELEASE_3_22 git_last_commit: 7f9c661 git_last_commit_date: 2025-10-29 11:32:16 -0400 (Wed, 29 Oct 2025)