Package: rhdf5client Version: 1.30.0 Command: chmod a+r rhdf5client -R && E:\biocbuild\bbs-3.21-bioc\R\bin\R.exe CMD build --keep-empty-dirs --no-resave-data rhdf5client StartedAt: 2025-08-14 21:44:33 -0400 (Thu, 14 Aug 2025) EndedAt: 2025-08-14 21:45:35 -0400 (Thu, 14 Aug 2025) EllapsedTime: 61.3 seconds RetCode: 0 Status: OK PackageFile: rhdf5client_1.30.0.tar.gz PackageFileSize: 531.2 KiB