Package: rhdf5 Version: 2.52.1 Command: /home/biocbuild/bbs-3.21-bioc/R/bin/R CMD check --install=check:rhdf5.install-out.txt --library=/home/biocbuild/bbs-3.21-bioc/R/site-library --timings rhdf5_2.52.1.tar.gz StartedAt: 2025-10-16 02:50:27 -0400 (Thu, 16 Oct 2025) EndedAt: 2025-10-16 02:56:25 -0400 (Thu, 16 Oct 2025) EllapsedTime: 357.7 seconds RetCode: 0 Status: WARNINGS CheckDir: rhdf5.Rcheck Warnings: 1