Package: rgsepd Version: 1.40.0 Command: /home/biocbuild/bbs-3.21-bioc/R/bin/R CMD check --install=check:rgsepd.install-out.txt --library=/home/biocbuild/bbs-3.21-bioc/R/site-library --timings rgsepd_1.40.0.tar.gz StartedAt: 2025-10-02 02:45:48 -0400 (Thu, 02 Oct 2025) EndedAt: 2025-10-02 02:54:55 -0400 (Thu, 02 Oct 2025) EllapsedTime: 546.9 seconds RetCode: 0 Status: OK CheckDir: rgsepd.Rcheck Warnings: 0