Package: rgsepd Version: 1.40.0 Command: /Library/Frameworks/R.framework/Resources/bin/R CMD build --keep-empty-dirs --no-resave-data rgsepd StartedAt: 2025-09-25 22:00:03 -0400 (Thu, 25 Sep 2025) EndedAt: 2025-09-25 22:07:36 -0400 (Thu, 25 Sep 2025) EllapsedTime: 452.4 seconds RetCode: 0 Status: OK PackageFile: rgsepd_1.40.0.tar.gz PackageFileSize: 1.184 MiB