Package: rgsepd Version: 1.40.0 Command: /Library/Frameworks/R.framework/Resources/bin/R CMD INSTALL rgsepd StartedAt: 2025-04-21 15:21:31 -0400 (Mon, 21 Apr 2025) EndedAt: 2025-04-21 15:22:52 -0400 (Mon, 21 Apr 2025) EllapsedTime: 81.4 seconds RetCode: 0 Status: OK