Package: rgsepd Version: 1.40.0 Command: rm -rf rgsepd.buildbin-libdir && mkdir rgsepd.buildbin-libdir && /Users/biocbuild/BBS/utils/build-universal.sh rgsepd_1.40.0.tar.gz /Library/Frameworks/R.framework/Resources/bin/R rgsepd.buildbin-libdir StartedAt: 2025-10-08 22:36:19 -0400 (Wed, 08 Oct 2025) EndedAt: 2025-10-08 22:42:50 -0400 (Wed, 08 Oct 2025) EllapsedTime: 391.2 seconds RetCode: 0 Status: OK PackageFile: rgsepd_1.40.0.tgz PackageFileSize: 1.299 MiB