Package: rexposome Version: 1.32.0 Command: /home/biocbuild/bbs-3.22-bioc/R/bin/R CMD INSTALL rexposome StartedAt: 2025-11-03 15:13:06 -0500 (Mon, 03 Nov 2025) EndedAt: 2025-11-03 15:13:31 -0500 (Mon, 03 Nov 2025) EllapsedTime: 24.3 seconds RetCode: 0 Status: OK