Package: rexposome Version: 1.32.0 Command: /home/biocbuild/bbs-3.22-bioc/R/bin/R CMD build --keep-empty-dirs --no-resave-data --md5 rexposome StartedAt: 2025-11-03 19:39:29 -0500 (Mon, 03 Nov 2025) EndedAt: 2025-11-03 19:41:04 -0500 (Mon, 03 Nov 2025) EllapsedTime: 95.1 seconds RetCode: 0 Status: OK PackageFile: rexposome_1.32.0.tar.gz PackageFileSize: 8.075 MiB