Package: rexposome Version: 1.32.0 Command: /Library/Frameworks/R.framework/Resources/bin/R CMD INSTALL rexposome StartedAt: 2025-11-02 15:07:09 -0500 (Sun, 02 Nov 2025) EndedAt: 2025-11-02 15:07:18 -0500 (Sun, 02 Nov 2025) EllapsedTime: 8.6 seconds RetCode: 0 Status: OK