Package: rexposome Version: 1.32.0 Command: /Library/Frameworks/R.framework/Resources/bin/R CMD check --install=check:rexposome.install-out.txt --library=/Library/Frameworks/R.framework/Resources/library --no-vignettes --timings rexposome_1.32.0.tar.gz StartedAt: 2025-11-05 22:08:52 -0500 (Wed, 05 Nov 2025) EndedAt: 2025-11-05 22:09:57 -0500 (Wed, 05 Nov 2025) EllapsedTime: 64.7 seconds RetCode: 0 Status: WARNINGS CheckDir: rexposome.Rcheck Warnings: 5