Package: regutools Version: 1.20.0 Command: /Library/Frameworks/R.framework/Resources/bin/R CMD build --keep-empty-dirs --no-resave-data regutools StartedAt: 2025-10-13 21:57:32 -0400 (Mon, 13 Oct 2025) EndedAt: 2025-10-13 22:00:25 -0400 (Mon, 13 Oct 2025) EllapsedTime: 172.5 seconds RetCode: 0 Status: OK PackageFile: regutools_1.20.0.tar.gz PackageFileSize: 379.1 KiB