Package: regioneReloaded Version: 1.10.0 Command: rm -rf regioneReloaded.buildbin-libdir && mkdir regioneReloaded.buildbin-libdir && E:\biocbuild\bbs-3.21-bioc\R\bin\R.exe CMD INSTALL --build --library=regioneReloaded.buildbin-libdir regioneReloaded_1.10.0.tar.gz StartedAt: 2025-08-15 10:05:00 -0400 (Fri, 15 Aug 2025) EndedAt: 2025-08-15 10:06:14 -0400 (Fri, 15 Aug 2025) EllapsedTime: 74.0 seconds RetCode: 0 Status: OK PackageFile: regioneReloaded_1.10.0.zip PackageFileSize: 2.155 MiB