Package: regioneReloaded Version: 1.10.0 Command: /home/biocbuild/bbs-3.21-bioc/R/bin/R CMD INSTALL regioneReloaded StartedAt: 2025-10-15 15:56:55 -0400 (Wed, 15 Oct 2025) EndedAt: 2025-10-15 15:57:31 -0400 (Wed, 15 Oct 2025) EllapsedTime: 36.0 seconds RetCode: 0 Status: OK