Package: regioneReloaded Version: 1.10.0 Command: /home/biocbuild/bbs-3.21-bioc/R/bin/R CMD check --install=check:regioneReloaded.install-out.txt --library=/home/biocbuild/bbs-3.21-bioc/R/site-library --timings regioneReloaded_1.10.0.tar.gz StartedAt: 2025-10-16 02:45:07 -0400 (Thu, 16 Oct 2025) EndedAt: 2025-10-16 02:52:41 -0400 (Thu, 16 Oct 2025) EllapsedTime: 454.7 seconds RetCode: 0 Status: OK CheckDir: regioneReloaded.Rcheck Warnings: 0