Package: regioneReloaded Version: 1.10.0 Command: /Library/Frameworks/R.framework/Resources/bin/R CMD build --keep-empty-dirs --no-resave-data regioneReloaded StartedAt: 2025-10-13 21:56:37 -0400 (Mon, 13 Oct 2025) EndedAt: 2025-10-13 21:59:18 -0400 (Mon, 13 Oct 2025) EllapsedTime: 161.1 seconds RetCode: 0 Status: OK PackageFile: regioneReloaded_1.10.0.tar.gz PackageFileSize: 4.02 MiB