Package: regioneReloaded Version: 1.10.0 Command: /Library/Frameworks/R.framework/Resources/bin/R CMD INSTALL regioneReloaded StartedAt: 2025-04-21 15:43:38 -0400 (Mon, 21 Apr 2025) EndedAt: 2025-04-21 15:44:27 -0400 (Mon, 21 Apr 2025) EllapsedTime: 48.9 seconds RetCode: 0 Status: OK