Package: regioneReloaded Version: 1.10.0 Command: /Library/Frameworks/R.framework/Resources/bin/R CMD INSTALL regioneReloaded StartedAt: 2025-10-13 18:26:12 -0400 (Mon, 13 Oct 2025) EndedAt: 2025-10-13 18:26:55 -0400 (Mon, 13 Oct 2025) EllapsedTime: 42.5 seconds RetCode: 0 Status: OK