Package: regioneReloaded Version: 1.10.0 Command: /Library/Frameworks/R.framework/Resources/bin/R CMD check --install=check:regioneReloaded.install-out.txt --library=/Library/Frameworks/R.framework/Resources/library --no-vignettes --timings regioneReloaded_1.10.0.tar.gz StartedAt: 2025-10-15 09:23:14 -0400 (Wed, 15 Oct 2025) EndedAt: 2025-10-15 09:31:05 -0400 (Wed, 15 Oct 2025) EllapsedTime: 471.2 seconds RetCode: 0 Status: OK CheckDir: regioneReloaded.Rcheck Warnings: 0