Package: regioneR Version: 1.40.1 Command: E:\biocbuild\bbs-3.21-bioc\R\bin\R.exe CMD INSTALL regioneR StartedAt: 2025-08-14 16:35:01 -0400 (Thu, 14 Aug 2025) EndedAt: 2025-08-14 16:35:53 -0400 (Thu, 14 Aug 2025) EllapsedTime: 52.4 seconds RetCode: 0 Status: OK