Package: regioneR Version: 1.40.1 Command: chmod a+r regioneR -R && E:\biocbuild\bbs-3.21-bioc\R\bin\R.exe CMD build --keep-empty-dirs --no-resave-data regioneR StartedAt: 2025-08-14 21:41:14 -0400 (Thu, 14 Aug 2025) EndedAt: 2025-08-14 21:46:52 -0400 (Thu, 14 Aug 2025) EllapsedTime: 337.5 seconds RetCode: 0 Status: OK PackageFile: regioneR_1.40.1.tar.gz PackageFileSize: 1.698 MiB