Package: regioneR Version: 1.40.1 Command: rm -rf regioneR.buildbin-libdir && mkdir regioneR.buildbin-libdir && E:\biocbuild\bbs-3.21-bioc\R\bin\R.exe CMD INSTALL --build --library=regioneR.buildbin-libdir regioneR_1.40.1.tar.gz StartedAt: 2025-08-15 10:04:56 -0400 (Fri, 15 Aug 2025) EndedAt: 2025-08-15 10:05:55 -0400 (Fri, 15 Aug 2025) EllapsedTime: 59.1 seconds RetCode: 0 Status: OK PackageFile: regioneR_1.40.1.zip PackageFileSize: 1.611 MiB