Package: regioneR Version: 1.40.1 Command: /Library/Frameworks/R.framework/Resources/bin/R CMD INSTALL regioneR StartedAt: 2025-10-13 15:59:07 -0400 (Mon, 13 Oct 2025) EndedAt: 2025-10-13 16:00:16 -0400 (Mon, 13 Oct 2025) EllapsedTime: 68.2 seconds RetCode: 0 Status: OK