Package: regioneR Version: 1.40.1 Command: /Library/Frameworks/R.framework/Resources/bin/R CMD check --install=check:regioneR.install-out.txt --library=/Library/Frameworks/R.framework/Resources/library --no-vignettes --timings regioneR_1.40.1.tar.gz StartedAt: 2025-10-14 09:00:10 -0400 (Tue, 14 Oct 2025) EndedAt: 2025-10-14 09:14:45 -0400 (Tue, 14 Oct 2025) EllapsedTime: 875.0 seconds RetCode: 0 Status: OK CheckDir: regioneR.Rcheck Warnings: 0