Package: regioneR Version: 1.40.1 Command: /Library/Frameworks/R.framework/Resources/bin/R CMD check --install=check:regioneR.install-out.txt --library=/Library/Frameworks/R.framework/Resources/library --no-vignettes --timings regioneR_1.40.1.tar.gz StartedAt: 2025-10-15 09:22:47 -0400 (Wed, 15 Oct 2025) EndedAt: 2025-10-15 09:32:16 -0400 (Wed, 15 Oct 2025) EllapsedTime: 568.7 seconds RetCode: 0 Status: OK CheckDir: regioneR.Rcheck Warnings: 0