Package: regioneR Version: 1.40.1 Maintainer: Bernat Gel MaintainerEmail: bgel at imppc.org git_url: https://git.bioconductor.org/packages/regioneR git_branch: RELEASE_3_21 git_last_commit: 9f9c28f git_last_commit_date: 2025-05-27 09:10:41 -0400 (Tue, 27 May 2025)